BEGIN:VCALENDAR
VERSION:2.0
PRODID:icalendar-ruby
CALSCALE:GREGORIAN
METHOD:PUBLISH
BEGIN:VEVENT
DTSTAMP:20260421T122532Z
UID:146-5048@westernheightsbaptistchurch.org
DTSTART;VALUE=DATE:20260501
DTEND;VALUE=DATE:20260502
CLASS:PUBLIC
CREATED:20260420T140929
DESCRIPTION:
LAST-MODIFIED:20260420T140929
LOCATION:The Heights
SUMMARY:Youth Collective Conference
URL;VALUE=URI:https://www.westernheightsbaptistchurch.org/events/youth-coll
 ective-conference/2026-05-01
END:VEVENT
END:VCALENDAR
