BEGIN:VCALENDAR
VERSION:2.0
PRODID:icalendar-ruby
CALSCALE:GREGORIAN
METHOD:PUBLISH
BEGIN:VEVENT
DTSTAMP:20260421T122531Z
UID:145-5047@westernheightsbaptistchurch.org
DTSTART:20260426T220000Z
DTEND:20260426T230000Z
CLASS:PUBLIC
CREATED:20260420T140847
DESCRIPTION:
LAST-MODIFIED:20260420T140847
LOCATION:Fellowship Hall
SUMMARY:Family Night
URL;VALUE=URI:https://www.westernheightsbaptistchurch.org/events/family-nig
 ht--145/2026-04-26
END:VEVENT
END:VCALENDAR
